Workbook

Sheet FORMULARIO
B5: FAVOR DE LLENAR LOS CAMPOS ANTES DE INICIAR LA INTEGRACIÓN DE LOS FORMATOS PR
A6: CLAVE DE UNIDAD RESPONSABLE
A7: NOMBRE DE LA UNIDAD RESPONSABLE
A8: NOMBRE DE QUIEN ELABORÓ
A9: CARGO DE QUIEN ELABORÓ
A10: NOMBRE DEL TITULAR DE LA UNIDAD RESPONSABLE
A11: CARGO DEL TITULAR DE LA UNIDAD RESPONSABLE
B12: .

Sheet PR-01 Plantilla
A2: DIRECCIÓN GENERAL DE PLANEACIÓN Y CALIDAD
A3: DIRECCIÓN DE PROGRAMACIÓN Y PRESUPUESTO
A4: PLANTILLA 2026 PARA EL CAPÍTULO 1000 SERVICIOS PERSONALES (PR-01)
A5: CLAVE DE LA UNIDAD RESPONSABLE | C5: =FORMULARIO!B6 -> 0 | E5: NOMBRE UR | G5: =FORMULARIO!B7 -> 0
A6: CATEGORÍA | D6: NÚMERO DE PLAZAS | H6: JUSTIFICACIÓN DE LA PROPUESTA PRESENTADA PARA EL EJERCICIO 2026
D7: OCUPADAS EJERCICIO 2025 (1) | E7: INCREMENTO PROPUESTO EJERCICIO 2026 (2) | F7: DECREMENTO PROPUESTO EJERCICIO 2026 (3) | G7: PROPUESTA FINAL PARA EL EJERCICIO 2026 (4=1+2-3)
A8: ABOGADO GENERAL | G8: =+D8+E8-F8 -> 0
A9: ASISTENTE | G9: =+D9+E9-F9 -> 0
A10: AUXILIAR "A" | G10: =+D10+E10-F10 -> 0
A11: AUXILIAR "B" | G11: =+D11+E11-F11 -> 0
A12: AUXILIAR "B" MT | G12: =+D12+E12-F12 -> 0
A13: CONTRALOR GENERAL | G13: =+D13+E13-F13 -> 0
A14: COORDINADOR ACADEMICO | G14: =+D14+E14-F14 -> 0
A15: COORDINADOR DE CARRERA | G15: =+D15+E15-F15 -> 0
A16: COORDINADOR GENERAL | G16: =+D16+E16-F16 -> 0
A17: DIR. ACAD. ESC. PREPARATORIA | G17: =+D17+E17-F17 -> 0
A18: DIRECTOR ACADEMICO DE ESCUELA | G18: =+D18+E18-F18 -> 0
A19: DIRECTOR ACADEMICO DE FACULTAD | G19: =+D19+E19-F19 -> 0
... A56: TESORERO | G56: =+D56+E56-F56 -> 0
A57: TOTAL | D57: =SUM(D8:D56) -> 0 | E57: =SUM(E8:E56) -> 0 | F57: =SUM(F8:F56) -> 0 | G57: =SUM(G8:G56) -> 0
A60: ELABORÓ | C60: ELABORÓ | F60: Vo. Bo.
A62: =FORMULARIO!B8 -> 0 | F62: =FORMULARIO!B10 -> 0
A63: =FORMULARIO!B9 -> 0 | F63: =FORMULARIO!B11 -> 0

Sheet PR-04 Becas y Apoyos
A2: DIRECCIÓN GENERAL DE PLANEACIÓN Y CALIDAD
A3: DIRECCIÓN DE PROGRAMACIÓN Y PRESUPUESTO
A4: ANÁLISIS DEL PRESUPUESTO DE EGRESOS 2026 CAPÍTULO 4000 TRANSFERENCIAS, ASIGNACIONES, SUBSIDIOS Y OTRAS AYUDAS (PR04)
A5: CLAVE DE LA UNIDAD RESPONSABLE | D5: =FORMULARIO!B6 -> 0 | E5: NOMBRE UR | F5: =FORMULARIO!B7 -> 0
A7: No | B7: DESCRIPCIÓN DE LA BECA O APOYO INSTITUCIONAL | C7: NÚMERO DE BENEFICIARIOS | D7: TIPO DE BENEFICIARIO (SELECCIÓN) | E7: IMPORTE UNITARIO DE LA BECA O APOYO | F7: MONTO TOTAL DE LA BECA O APOYO | G7: MES O PERÍODO DE ENTERO DE LA BECA O APOYO 2026 | H7: JUSTIFICACIÓN DE LA PROPUESTA DE BECA O APOYO (SOLO APOYOS INSTITUCIONALES)
A9: 1 | F9: =C9*E9 -> 0
A10: 2 | F10: =C10*E10 -> 0
A11: 3 | F11: =C11*E11 -> 0
A12: 4 | F12: =C12*E12 -> 0
A13: 5 | F13: =C13*E13 -> 0
A14: 6 | F14: =C14*E14 -> 0
A15: 7 | F15: =C15*E15 -> 0
A16: 8 | F16: =C16*E16 -> 0
A17: 9 | F17: =C17*E17 -> 0
A18: 10 | F18: =C18*E18 -> 0
A19: 11 | F19: =C19*E19 -> 0
A20: 12 | F20: =C20*E20 -> 0
... A23: 15 | F23: =C23*E23 -> 0
B24: S U M A | C24: =SUM(C9:C23) -> 0 | F24: =SUM(F9:F23) -> 0
B27: ELABORÓ | F27: Vo. Bo.
B30: =FORMULARIO!B8 -> 0 | F30: =FORMULARIO!B10 -> 0
B31: =FORMULARIO!B9 -> 0 | F31: =FORMULARIO!B11 -> 0

Sheet Tipo de beneficiarios
A3: Tipo de Beneficiarios
A4: Alumno
A5: Personal Académico
A6: Personal Administrativo
A7: Mandos Medios
A8: Otros

Sheet PR-05 Equipamiento
A2: DIRECCIÓN GENERAL DE PLANEACIÓN Y CALIDAD
A3: DIRECCIÓN DE PROGRAMACIÓN Y PRESUPUESTO
A4: ANÁLISIS DEL PRESUPUESTO DE EGRESOS 2026 CAPÍTULO 5000 BIENES MUEBLES, INMUEBLES E INTANGIBLES (PR05)
A5: CLAVE DE LA UNIDAD RESPONSABLE | D5: =FORMULARIO!B6 -> 0 | E5: NOMBRE UR | F5: =FORMULARIO!B7 -> 0
A6: No | B6: DESCRIPCIÓN DEL BIEN MUEBLE, INMUEBLE O INTANGIBLE | D6: CANTIDAD | E6: IMPORTE | G6: JUSTIFICACIÓN DE LA PROPUESTA (NECESIDAD DE ADQUISICIÓN Y BENEFICIARIOS)
E7: UNITARIO | F7: TOTAL
A8: 1 | F8: =D8*E8 -> 0
A9: 2 | F9: =D9*E9 -> 0
A10: 3 | F10: =D10*E10 -> 0
A11: 4 | F11: =D11*E11 -> 0
A12: 5 | F12: =D12*E12 -> 0
A13: 6 | F13: =D13*E13 -> 0
A14: 7 | F14: =D14*E14 -> 0
A15: 8 | F15: =D15*E15 -> 0
A16: 9 | F16: =D16*E16 -> 0
A17: 10 | F17: =D17*E17 -> 0
A18: 11 | F18: =D18*E18 -> 0
A19: 12 | F19: =D19*E19 -> 0
... A35: 28 | F35: =D35*E35 -> 0
B36: S U M A | D36: =SUM(D8:D35) -> 0 | F36: =SUM(F8:F35) -> 0
A38: ELABORÓ | C38: ELABORÓ | F38: Vo. Bo.
A40: =FORMULARIO!B8 -> 0 | F40: =FORMULARIO!B10 -> 0
A41: =FORMULARIO!B9 -> 0 | F41: =FORMULARIO!B11 -> 0

Sheet PR-06 Inversión-Mtto Mayor
A2: DIRECCIÓN GENERAL DE PLANEACIÓN Y CALIDAD
A3: DIRECCIÓN DE PROGRAMACIÓN Y PRESUPUESTO
A4: ANÁLISIS DEL PRESUPUESTO DE EGRESOS 2026 CAPÍTULO 6000 INVERSIÓN (PR06)
A5: CLAVE DE LA UNIDAD RESPONSABLE | D5: =FORMULARIO!B6 -> 0 | E5: NOMBRE UR | F5: =FORMULARIO!B7 -> 0
A7: No. | B7: NOMBRE DE LA OBRA O SERVICIO | D7: DESCRIPCIÓN DE LA OBRA O SERVICIO DE MANTENIMIENTO MAYOR | G7: MONTO ESTIMADO | H7: JUSTIFICACIÓN DE LA PROPUESTA (NECESIDAD DE LA OBRA O SERVICIO Y BENEFICIARIOS)
A8: 1
A9: 2
A10: 3
A11: 4
A12: 5
A13: 6
A14: 7
A15: 8
A16: 9
A17: 10
A18: 11
A19: 12
... A31: 24
A32: TOTAL | G32: =SUM(G8:G31) -> 0
B34: ELABORÓ | G34: Vo. Bo.
B37: =FORMULARIO!B8 -> 0 | G37: =FORMULARIO!B10 -> 0
B38: =FORMULARIO!B9 -> 0 | G38: =FORMULARIO!B11 -> 0
